
BEGIN:VCALENDAR
VERSION:2.0
PRODID:-//KlezKanada - ECPv6.15.20//NONSGML v1.0//EN
CALSCALE:GREGORIAN
METHOD:PUBLISH
X-WR-CALNAME:KlezKanada
X-ORIGINAL-URL:https://klezkanada.org
X-WR-CALDESC:Events for KlezKanada
REFRESH-INTERVAL;VALUE=DURATION:PT1H
X-Robots-Tag:noindex
X-PUBLISHED-TTL:PT1H
BEGIN:VTIMEZONE
TZID:America/New_York
BEGIN:DAYLIGHT
TZOFFSETFROM:-0500
TZOFFSETTO:-0400
TZNAME:EDT
DTSTART:20250309T070000
END:DAYLIGHT
BEGIN:STANDARD
TZOFFSETFROM:-0400
TZOFFSETTO:-0500
TZNAME:EST
DTSTART:20251102T060000
END:STANDARD
BEGIN:DAYLIGHT
TZOFFSETFROM:-0500
TZOFFSETTO:-0400
TZNAME:EDT
DTSTART:20260308T070000
END:DAYLIGHT
BEGIN:STANDARD
TZOFFSETFROM:-0400
TZOFFSETTO:-0500
TZNAME:EST
DTSTART:20261101T060000
END:STANDARD
BEGIN:DAYLIGHT
TZOFFSETFROM:-0500
TZOFFSETTO:-0400
TZNAME:EDT
DTSTART:20270314T070000
END:DAYLIGHT
BEGIN:STANDARD
TZOFFSETFROM:-0400
TZOFFSETTO:-0500
TZNAME:EST
DTSTART:20271107T060000
END:STANDARD
END:VTIMEZONE
BEGIN:VEVENT
DTSTART;TZID=America/New_York:20260428T180000
DTEND;TZID=America/New_York:20260428T193000
DTSTAMP:20260424T022739
CREATED:20260409T162147Z
LAST-MODIFIED:20260409T162147Z
UID:14655-1777399200-1777404600@klezkanada.org
SUMMARY:Klezmer Workshop with Alicia Svigals | Atelier klezmer avec Alicia Svigals
DESCRIPTION:Renowned klezmer fiddler Alicia Svigals will teach traditional tunes and accompaniment patterns\, and reveal the secrets of Yiddish playing style\, including the rhythmic feel and ornaments like the “krekhts” that make a violinist\, accordionist\, or any instrumentalist sound like a bonafide klezmer! Especially for strings\, but all instruments are welcome. For advanced beginners to pros. No prior klezmer experience necessary. \nTickets: https://klezkanada.square.site/product/workshop-with-alicia-svigals/JLXHYAS7T4WGLOALUT7TWMAO?cp=true&sa=true&sbp=false&q=false \n— \nLa célèbre violoniste klezmer Alicia Svigals enseignera des airs traditionnels et leurs accompagnements\, et dévoilera les secrets du style yiddish\, notamment le sens du rythme et les ornements tels que le « krekhts »\, qui permettent à un violoniste\, un accordéoniste ou tout autre instrumentiste de sonner comme un véritable klezmer ! Ce cours est particulièrement adapté aux instruments à cordes\, mais tous les instruments sont les bienvenus. Il s’adresse aux débutants avancés comme aux professionnels. Aucune connaissance préalable du klezmer n’est requise. \nBillets : https://klezkanada.square.site/product/workshop-with-alicia-svigals/JLXHYAS7T4WGLOALUT7TWMAO?cp=true&sa=true&sbp=false&q=false
URL:https://klezkanada.org/event/klezmer-workshop-with-alicia-svigals-atelier-klezmer-avec-alicia-svigals/
LOCATION:Centre des Musiciens du Monde\, 5043 rue Saint-Dominique\, Montreal\, Quebec\, H2T 1V1\, Canada
CATEGORIES:Workshop
ATTACH;FMTTYPE=image/jpeg:https://klezkanada.org/wp-content/uploads/2026/04/2026-Alicia-Workshop.jpg
ORGANIZER;CN="KlezKanada":MAILTO:info@klezkanada.org
END:VEVENT
BEGIN:VEVENT
DTSTART;TZID=America/New_York:20260429T190000
DTEND;TZID=America/New_York:20260429T220000
DTSTAMP:20260424T022739
CREATED:20260326T173814Z
LAST-MODIFIED:20260421T204130Z
UID:14569-1777489200-1777500000@klezkanada.org
SUMMARY:Di rayze aheym | The journey home in/en concert
DESCRIPTION:In 1983\, on the 40th anniversary of the Warsaw Ghetto Uprising\, Irena Klepfisz and her mother Rose returned to Poland for the first time since their emigration to America. On her return from this trip\, Irena composed Di rayze aheym / The journey home\, first published in 1985. 40 years later\, in 2025\, Avi Fox-Rosen composed song settings for Irena’s words. Join us for an intimate concert in which Irena recites her words\, while Avi and klezmer fiddle virtuoso Alicia Svigals perform these new musical settings. \nTickets: https://tickets.venuepilot.com/e/di-rayze-aheym-the-journey-home-in-concert-2026-04-29-casa-del-popolo-montreal-1369d1 \nIrena Klepfisz\nA trailblazing lesbian poet\, child Holocaust survivor\, and political activist whose work is deeply informed by socialist values\, Irena Klepfisz is a vital and individual American voice. Irena Klepfisz taught Jewish Women’s Studies at Barnard College for 22 years. She is the author of five books of poetry including Her Birth and Later Years: New and Collected Poems\, 1971-2021 (winner of the 2023 Audre Lorde Award for Lesbian Poetry; finalist for a 2023 National Jewish Book Award)\, Periods of Stress\, Keeper of Accounts\, Different Enclosures\, A Few Words in the Mother Tongue\, and a collection of essays Dreams of an Insomniac. She is one of the foremost advocates of the Yiddish language and its renaissance in the United States. Her work has appeared in Tablet Magazine\, The Manhattan Review\, The Georgia Review\, In geveb\, Sinister Wisdom\, The Current\, and Languages of Modern Jewish Cultures. \nAvi Fox-Rosen\nAvi Fox-Rosen is a guitarist\, singer\, songwriter\, producer and multi-instrumentalist based in Brooklyn\, NY\, equally at home in rock\, Yiddish\, klezmer\, theater\, or improvised music worlds. He’s worked with many of the leading lights in new Yiddish music over the last 20 years. His newest album project\, Di rayze aheym / The journey home sets the poem by Irena Klepfisz to lush music. Avi also co-leads Yiddish Princess\, and composed settings of Itzik Manger’s Khumesh Lider with Basya Schechter. \nAlicia Svigals\nAlicia Svigals\, violinist/composer and a founder of the Grammy-winning Klezmatics\, is the world’s foremost klezmer fiddler. She almost single handedly revived the tradition of klezmer fiddling\, which had been on the brink of extinction until she recorded her debut album Fidl in the 1990’s. Svigals has performed with and written for violinist Itzhak Perlman\, and has worked with the the Kronos Quartet\, playwrights Tony Kushner and Eve Ensler\, poet Allen Ginsburg\, Robert Plant and Jimmy Page of Led Zeppelin\, Debbie Friedman and Chava Alberstein. She was awarded a Foundation for Jewish Culture commission for her original score to the 1918 film The Yellow Ticket and is a MacDowell fellow. In February 2018\, Svigals and jazz pianist Uli Geissendoerfer released Beregovski Suite\, their fantasy on klezmer melodies culled from the archive of early 20th century Soviet Jewish ethnomusicologist Moshe Beregovski. Since 2018\, Svigals has been collaborating with celebrated silent film pianist/composer Donald Sosin on a series of scores for newly-restored silent movies: The Ancient Law (1923)\, City without Jews (1924)\, a 1992 faux-silent film by artist Eleanor Antin\, A Man Without a World\, as well as East and West starring Molly Picon. They co-compose and record the scores for theatrical release and home media\, and tour these projects internationally as ‘cine-concerts’ – live performances to screenings of the films. In May 2023\, Svigals was awarded the honorary degree of Doctor of Humane Letters by the Jewish Theological Seminary for “extraordinary contributions to the arts and Jewish life.” In June 2024 she released her newest album\, Fidl Afire\, on the Borscht Beat label—a return to her roots with a full-on party band. In August 2024 she was awarded the 2024 NYSCA/NYFA Artist Fellowship in Folk/Traditional arts. \n— \nEn 1983\, à l’occasion du 40e anniversaire du soulèvement du ghetto de Varsovie\, Irena Klepfisz et sa mère Rose sont retournées en Pologne pour la première fois depuis leur émigration en Amérique. C’est à son retour de voyage qu’Irena a écrit Di rayze aheym (Le voyage de retour)\, publié en 1985. Quarante ans plus tard\, en 2025\, Avi Fox-Rosen a choisi de mettre ces mots en musique. Joignez-vous à nous pour un concert intime lors duquel Irena récitera ses propres mots\, accompagnée de Fox-Rosen et de la virtuose du violon klezmer Alicia Svigals\, qui interpréteront ces nouvelles compositions. \nBillets: https://tickets.venuepilot.com/e/di-rayze-aheym-the-journey-home-in-concert-2026-04-29-casa-del-popolo-montreal-1369d1 \nIrena Klepfisz\nÀ travers son œuvre profondément marquée par des valeurs socialistes\, la poète lesbienne précurseure\, enfant rescapée de la Shoah et militante politique Irena Klepfisz incarne une voix essentielle et unique en Amérique. Elle a enseigné les études juives féministes au Barnard College pendant 22 ans et est l’autrice de cinq recueils de poésie : Her Birth and Later Years: New and Collected Poems\, 1971–2021 (lauréat du prix Audre Lorde 2023 pour la poésie lesbienne et finaliste du National Jewish Book Award 2023); Periods of Stress; Keeper of Accounts; Different Enclosures; et A Few Words in the Mother Tongue; ainsi que d’un recueil d’essais intitulé Dreams of an Insomniac. Elle est également l’une des principales défenseuses de la langue yiddish et de sa renaissance aux États-Unis. Ses textes ont paru dans Tablet Magazine\, The Manhattan Review\, The Georgia Review\, In geveb\, Sinister Wisdom\, The Current et Languages of Modern Jewish Cultures. \nAvi Fox-Rosen\nAvi Fox-Rosen est un guitariste\, chanteur\, auteur-compositeur\, producteur et multi-instrumentiste basé à Brooklyn (New York)\, à l’aise aussi bien dans les univers rock\, yiddish\, klezmer\, du théâtre ou de la musique improvisée. Au cours des 20 dernières années\, il a collaboré avec plusieurs figures majeures de la nouvelle musique yiddish. Son plus récent projet d’album\, Di rayze aheym / The Journey Home\, présente la mise en musique du poème éponyme d’Irena Klepfisz\, à travers des arrangements riches et évocateurs. Avi est également co-directeur du groupe Yiddish Princess et est l’auteur des mises en musique des Khumesh Lider d’Itzik Manger avec Basya Schechter. \nAlicia Svigals\nLa musicienne et compositrice Alicia Svigals\, membre fondatrice des Klezmatics (lauréats d’un Grammy)\, est considérée comme l’une des plus éminentes violonistes klezmer au monde. Elle a grandement contribué à raviver la tradition du violon klezmer\, qui était au bord de l’extinction jusqu’à la parution de son premier album Fidl dans les années 1990. Svigals s’est produite avec le violoniste Itzhak Perlman et a composé pour lui. Elle a également collaboré avec le Kronos Quartet\, les dramaturges Tony Kushner et Eve Ensler\, le poète Allen Ginsberg\, les musiciens Robert Plant et Jimmy Page de Led Zeppelin\, ainsi que Debbie Friedman et Chava Alberstein. Svigals a remporté la commande de la Foundation for Jewish Culture pour écrire la musique originale du film The Yellow Ticket (1918) et a été boursière de la résidence MacDowell. En février 2018\, elle et le pianiste jazz Uli Geissendoerfer ont lancé Beregovski Suite\, une fantaisie sur des mélodies klezmer tirées des archives de l’ethnomusicologue juif soviétique du début du XXe siècle\, Moshe Beregovski. Depuis cette année-là\, Svigals collabore également avec le pianiste et compositeur de cinéma muet Donald Sosin sur une série de musiques pour films muets restaurés : The Ancient Law (1923)\, City Without Jews (1924)\, A Man Without a World (un film muet de 1992 de l’artiste Eleanor Antin)\, ainsi que East and West avec Molly Picon. Les deux musiciens composent et enregistrent ces partitions pour le cinéma et les médias domestiques\, et présentent ces projets à l’international sous forme de « ciné-concerts » : des prestations accompagnant en direct la projection des films. En mai 2023\, Svigals a reçu un doctorat honorifique ès lettres (Humane Letters) du Jewish Theological Seminary pour sa « contribution extraordinaire aux arts et à la vie juive ». En juin 2024\, elle a publié son plus récent album\, Fidl Afire\, sous étiquette Borscht Beat – un retour à ses racines\, accompagnée d’un ensemble klezmer festif. En août 2024\, elle a reçu la bourse artistique NYSCA/NYFA 2024 dans la catégorie « Arts folkloriques et traditionnels ».
URL:https://klezkanada.org/event/di-rayze-aheym-the-journey-home-in-en-concert/
LOCATION:Casa del Popolo\, 4873 Boul. Saint-Laurent\, Montréal\, QC\, H2T 1R6\, Canada
CATEGORIES:Concert
ATTACH;FMTTYPE=image/jpeg:https://klezkanada.org/wp-content/uploads/2026/03/2026-di-rayze-aheym-event-banner-v1.jpg
ORGANIZER;CN="KlezKanada":MAILTO:info@klezkanada.org
END:VEVENT
BEGIN:VEVENT
DTSTART;TZID=America/New_York:20260517T180000
DTEND;TZID=America/New_York:20260517T210000
DTSTAMP:20260424T022739
CREATED:20260305T161241Z
LAST-MODIFIED:20260305T161517Z
UID:14507-1779040800-1779051600@klezkanada.org
SUMMARY:Montréal Klezmer Jam
DESCRIPTION:Every third Sunday of the month\, join Montreal’s klezmer community to play klezmer tunes together. KlezKanada’s Montreal Klezmer Jam is a space where Montreal musicians – and guests from out of town – come together regularly to play klezmer music\, discover new repertoire\, and build community.  \nEach session opens with a mini concert set at 6 PM\, featuring performances from local and touring klezmorim. After the short concert set\, the artists will open up the set to jamming. There will be a short break at 7:15 ish\, followed by a second jam set. \nSee more information about the Montreal Klezmer Jam series\, including upcoming artists\, tune-of-the-month\, and jamming guidelines at https://klezkanada.org/montreal-klezmer-jam/ \n— \nChaque troisième dimanche du mois\, joignez-vous à la communauté klezmer de Montréal pour jouer ensemble des tunes klezmer. Le Jam Klezmer de Montréal de KlezKanada est un lieu de rencontre régulier pour les musiciens montréalais – et des invités de passage – qui se réunissent pour jouer de la musique klezmer\, découvrir de nouveaux morceaux et tisser des liens. \nChaque séance débute par un mini-concert à 18 h\, avec des performances de musiciens klezmer locaux et en tournée. Après ce court concert\, place au jam. Une courte pause est prévue vers 19:15 h\, suivie d’une deuxième séance de jamming. \nPour en savoir plus sur la série de Jam klezmer de Montréal\, notamment sur les artistes à venir\, la chanson du mois et les règles de participation\, rendez-vous sur : https://klezkanada.org/fr/jam-klezmer-montreal/
URL:https://klezkanada.org/event/montreal-klezmer-jam-2026-05/
LOCATION:Aux Angles Ronds\, 5333 Boulevard Saint-Laurent\, Montréal\, Québec\, Canada
CATEGORIES:Montreal Klezmer Jam
ATTACH;FMTTYPE=image/jpeg:https://klezkanada.org/wp-content/uploads/2026/03/2026-MKJ-Graphics-Event-Banner.jpg
ORGANIZER;CN="KlezKanada":MAILTO:info@klezkanada.org
END:VEVENT
BEGIN:VEVENT
DTSTART;TZID=America/New_York:20260621T180000
DTEND;TZID=America/New_York:20260621T210000
DTSTAMP:20260424T022739
CREATED:20260305T161351Z
LAST-MODIFIED:20260305T161358Z
UID:14509-1782064800-1782075600@klezkanada.org
SUMMARY:Montréal Klezmer Jam
DESCRIPTION:Every third Sunday of the month\, join Montreal’s klezmer community to play klezmer tunes together. KlezKanada’s Montreal Klezmer Jam is a space where Montreal musicians – and guests from out of town – come together regularly to play klezmer music\, discover new repertoire\, and build community.  \nEach session opens with a mini concert set at 6 PM\, featuring performances from local and touring klezmorim. After the short concert set\, the artists will open up the set to jamming. There will be a short break at 7:15 ish\, followed by a second jam set. \nSee more information about the Montreal Klezmer Jam series\, including upcoming artists\, tune-of-the-month\, and jamming guidelines at https://klezkanada.org/montreal-klezmer-jam/ \n— \nChaque troisième dimanche du mois\, joignez-vous à la communauté klezmer de Montréal pour jouer ensemble des tunes klezmer. Le Jam Klezmer de Montréal de KlezKanada est un lieu de rencontre régulier pour les musiciens montréalais – et des invités de passage – qui se réunissent pour jouer de la musique klezmer\, découvrir de nouveaux morceaux et tisser des liens. \nChaque séance débute par un mini-concert à 18 h\, avec des performances de musiciens klezmer locaux et en tournée. Après ce court concert\, place au jam. Une courte pause est prévue vers 19:15 h\, suivie d’une deuxième séance de jamming. \nPour en savoir plus sur la série de Jam klezmer de Montréal\, notamment sur les artistes à venir\, la chanson du mois et les règles de participation\, rendez-vous sur : https://klezkanada.org/fr/jam-klezmer-montreal/
URL:https://klezkanada.org/event/montreal-klezmer-jam-2026-06/
LOCATION:Aux Angles Ronds\, 5333 Boulevard Saint-Laurent\, Montréal\, Québec\, Canada
CATEGORIES:Montreal Klezmer Jam
ATTACH;FMTTYPE=image/jpeg:https://klezkanada.org/wp-content/uploads/2026/03/2026-MKJ-Graphics-Event-Banner.jpg
ORGANIZER;CN="KlezKanada":MAILTO:info@klezkanada.org
END:VEVENT
BEGIN:VEVENT
DTSTART;TZID=America/New_York:20260719T180000
DTEND;TZID=America/New_York:20260719T210000
DTSTAMP:20260424T022739
CREATED:20260305T161655Z
LAST-MODIFIED:20260305T161655Z
UID:14511-1784484000-1784494800@klezkanada.org
SUMMARY:Montréal Klezmer Jam
DESCRIPTION:Every third Sunday of the month\, join Montreal’s klezmer community to play klezmer tunes together. KlezKanada’s Montreal Klezmer Jam is a space where Montreal musicians – and guests from out of town – come together regularly to play klezmer music\, discover new repertoire\, and build community.  \nEach session opens with a mini concert set at 6 PM\, featuring performances from local and touring klezmorim. After the short concert set\, the artists will open up the set to jamming. There will be a short break at 7:15 ish\, followed by a second jam set. \nSee more information about the Montreal Klezmer Jam series\, including upcoming artists\, tune-of-the-month\, and jamming guidelines at https://klezkanada.org/montreal-klezmer-jam/ \n— \nChaque troisième dimanche du mois\, joignez-vous à la communauté klezmer de Montréal pour jouer ensemble des tunes klezmer. Le Jam Klezmer de Montréal de KlezKanada est un lieu de rencontre régulier pour les musiciens montréalais – et des invités de passage – qui se réunissent pour jouer de la musique klezmer\, découvrir de nouveaux morceaux et tisser des liens. \nChaque séance débute par un mini-concert à 18 h\, avec des performances de musiciens klezmer locaux et en tournée. Après ce court concert\, place au jam. Une courte pause est prévue vers 19:15 h\, suivie d’une deuxième séance de jamming. \nPour en savoir plus sur la série de Jam klezmer de Montréal\, notamment sur les artistes à venir\, la chanson du mois et les règles de participation\, rendez-vous sur : https://klezkanada.org/fr/jam-klezmer-montreal/
URL:https://klezkanada.org/event/montreal-klezmer-jam-2026-07/
LOCATION:Aux Angles Ronds\, 5333 Boulevard Saint-Laurent\, Montréal\, Québec\, Canada
CATEGORIES:Montreal Klezmer Jam
ATTACH;FMTTYPE=image/jpeg:https://klezkanada.org/wp-content/uploads/2026/03/2026-MKJ-Graphics-Event-Banner.jpg
ORGANIZER;CN="KlezKanada":MAILTO:info@klezkanada.org
END:VEVENT
BEGIN:VEVENT
DTSTART;TZID=America/New_York:20260816T180000
DTEND;TZID=America/New_York:20260816T210000
DTSTAMP:20260424T022739
CREATED:20260305T161751Z
LAST-MODIFIED:20260305T161751Z
UID:14513-1786903200-1786914000@klezkanada.org
SUMMARY:Montréal Klezmer Jam
DESCRIPTION:Every third Sunday of the month\, join Montreal’s klezmer community to play klezmer tunes together. KlezKanada’s Montreal Klezmer Jam is a space where Montreal musicians – and guests from out of town – come together regularly to play klezmer music\, discover new repertoire\, and build community.  \nEach session opens with a mini concert set at 6 PM\, featuring performances from local and touring klezmorim. After the short concert set\, the artists will open up the set to jamming. There will be a short break at 7:15 ish\, followed by a second jam set. \nSee more information about the Montreal Klezmer Jam series\, including upcoming artists\, tune-of-the-month\, and jamming guidelines at https://klezkanada.org/montreal-klezmer-jam/ \n— \nChaque troisième dimanche du mois\, joignez-vous à la communauté klezmer de Montréal pour jouer ensemble des tunes klezmer. Le Jam Klezmer de Montréal de KlezKanada est un lieu de rencontre régulier pour les musiciens montréalais – et des invités de passage – qui se réunissent pour jouer de la musique klezmer\, découvrir de nouveaux morceaux et tisser des liens. \nChaque séance débute par un mini-concert à 18 h\, avec des performances de musiciens klezmer locaux et en tournée. Après ce court concert\, place au jam. Une courte pause est prévue vers 19:15 h\, suivie d’une deuxième séance de jamming. \nPour en savoir plus sur la série de Jam klezmer de Montréal\, notamment sur les artistes à venir\, la chanson du mois et les règles de participation\, rendez-vous sur : https://klezkanada.org/fr/jam-klezmer-montreal/
URL:https://klezkanada.org/event/montreal-klezmer-jam-2026-08/
LOCATION:Aux Angles Ronds\, 5333 Boulevard Saint-Laurent\, Montréal\, Québec\, Canada
CATEGORIES:Montreal Klezmer Jam
ATTACH;FMTTYPE=image/jpeg:https://klezkanada.org/wp-content/uploads/2026/03/2026-MKJ-Graphics-Event-Banner.jpg
ORGANIZER;CN="KlezKanada":MAILTO:info@klezkanada.org
END:VEVENT
BEGIN:VEVENT
DTSTART;TZID=America/New_York:20260920T180000
DTEND;TZID=America/New_York:20260920T210000
DTSTAMP:20260424T022739
CREATED:20260305T164800Z
LAST-MODIFIED:20260305T164910Z
UID:14515-1789927200-1789938000@klezkanada.org
SUMMARY:Montréal Klezmer Jam
DESCRIPTION:Every third Sunday of the month\, join Montreal’s klezmer community to play klezmer tunes together. KlezKanada’s Montreal Klezmer Jam is a space where Montreal musicians – and guests from out of town – come together regularly to play klezmer music\, discover new repertoire\, and build community.  \nEach session opens with a mini concert set at 6 PM\, featuring performances from local and touring klezmorim. After the short concert set\, the artists will open up the set to jamming. There will be a short break at 7:15 ish\, followed by a second jam set. \nSee more information about the Montreal Klezmer Jam series\, including upcoming artists\, tune-of-the-month\, and jamming guidelines at https://klezkanada.org/montreal-klezmer-jam/ \n— \nChaque troisième dimanche du mois\, joignez-vous à la communauté klezmer de Montréal pour jouer ensemble des tunes klezmer. Le Jam Klezmer de Montréal de KlezKanada est un lieu de rencontre régulier pour les musiciens montréalais – et des invités de passage – qui se réunissent pour jouer de la musique klezmer\, découvrir de nouveaux morceaux et tisser des liens. \nChaque séance débute par un mini-concert à 18 h\, avec des performances de musiciens klezmer locaux et en tournée. Après ce court concert\, place au jam. Une courte pause est prévue vers 19:15 h\, suivie d’une deuxième séance de jamming. \nPour en savoir plus sur la série de Jam klezmer de Montréal\, notamment sur les artistes à venir\, la chanson du mois et les règles de participation\, rendez-vous sur : https://klezkanada.org/fr/jam-klezmer-montreal/
URL:https://klezkanada.org/event/montreal-klezmer-jam-2026-09/
LOCATION:Aux Angles Ronds\, 5333 Boulevard Saint-Laurent\, Montréal\, Québec\, Canada
CATEGORIES:Montreal Klezmer Jam
ATTACH;FMTTYPE=image/jpeg:https://klezkanada.org/wp-content/uploads/2026/03/2026-MKJ-Graphics-Event-Banner.jpg
ORGANIZER;CN="KlezKanada":MAILTO:info@klezkanada.org
END:VEVENT
BEGIN:VEVENT
DTSTART;TZID=America/New_York:20261018T180000
DTEND;TZID=America/New_York:20261018T210000
DTSTAMP:20260424T022739
CREATED:20260305T164850Z
LAST-MODIFIED:20260305T164850Z
UID:14517-1792346400-1792357200@klezkanada.org
SUMMARY:Montréal Klezmer Jam
DESCRIPTION:Every third Sunday of the month\, join Montreal’s klezmer community to play klezmer tunes together. KlezKanada’s Montreal Klezmer Jam is a space where Montreal musicians – and guests from out of town – come together regularly to play klezmer music\, discover new repertoire\, and build community.  \nEach session opens with a mini concert set at 6 PM\, featuring performances from local and touring klezmorim. After the short concert set\, the artists will open up the set to jamming. There will be a short break at 7:15 ish\, followed by a second jam set. \nSee more information about the Montreal Klezmer Jam series\, including upcoming artists\, tune-of-the-month\, and jamming guidelines at https://klezkanada.org/montreal-klezmer-jam/ \n— \nChaque troisième dimanche du mois\, joignez-vous à la communauté klezmer de Montréal pour jouer ensemble des tunes klezmer. Le Jam Klezmer de Montréal de KlezKanada est un lieu de rencontre régulier pour les musiciens montréalais – et des invités de passage – qui se réunissent pour jouer de la musique klezmer\, découvrir de nouveaux morceaux et tisser des liens. \nChaque séance débute par un mini-concert à 18 h\, avec des performances de musiciens klezmer locaux et en tournée. Après ce court concert\, place au jam. Une courte pause est prévue vers 19:15 h\, suivie d’une deuxième séance de jamming. \nPour en savoir plus sur la série de Jam klezmer de Montréal\, notamment sur les artistes à venir\, la chanson du mois et les règles de participation\, rendez-vous sur : https://klezkanada.org/fr/jam-klezmer-montreal/
URL:https://klezkanada.org/event/montreal-klezmer-jam-2/
LOCATION:Aux Angles Ronds\, 5333 Boulevard Saint-Laurent\, Montréal\, Québec\, Canada
CATEGORIES:Montreal Klezmer Jam
ATTACH;FMTTYPE=image/jpeg:https://klezkanada.org/wp-content/uploads/2026/03/2026-MKJ-Graphics-Event-Banner.jpg
ORGANIZER;CN="KlezKanada":MAILTO:info@klezkanada.org
END:VEVENT
BEGIN:VEVENT
DTSTART;TZID=America/New_York:20261115T180000
DTEND;TZID=America/New_York:20261115T210000
DTSTAMP:20260424T022739
CREATED:20260305T165003Z
LAST-MODIFIED:20260305T165003Z
UID:14519-1794765600-1794776400@klezkanada.org
SUMMARY:Montréal Klezmer Jam
DESCRIPTION:Every third Sunday of the month\, join Montreal’s klezmer community to play klezmer tunes together. KlezKanada’s Montreal Klezmer Jam is a space where Montreal musicians – and guests from out of town – come together regularly to play klezmer music\, discover new repertoire\, and build community.  \nEach session opens with a mini concert set at 6 PM\, featuring performances from local and touring klezmorim. After the short concert set\, the artists will open up the set to jamming. There will be a short break at 7:15 ish\, followed by a second jam set. \nSee more information about the Montreal Klezmer Jam series\, including upcoming artists\, tune-of-the-month\, and jamming guidelines at https://klezkanada.org/montreal-klezmer-jam/ \n— \nChaque troisième dimanche du mois\, joignez-vous à la communauté klezmer de Montréal pour jouer ensemble des tunes klezmer. Le Jam Klezmer de Montréal de KlezKanada est un lieu de rencontre régulier pour les musiciens montréalais – et des invités de passage – qui se réunissent pour jouer de la musique klezmer\, découvrir de nouveaux morceaux et tisser des liens. \nChaque séance débute par un mini-concert à 18 h\, avec des performances de musiciens klezmer locaux et en tournée. Après ce court concert\, place au jam. Une courte pause est prévue vers 19:15 h\, suivie d’une deuxième séance de jamming. \nPour en savoir plus sur la série de Jam klezmer de Montréal\, notamment sur les artistes à venir\, la chanson du mois et les règles de participation\, rendez-vous sur : https://klezkanada.org/fr/jam-klezmer-montreal/
URL:https://klezkanada.org/event/montreal-klezmer-jam-2026-11/
LOCATION:Aux Angles Ronds\, 5333 Boulevard Saint-Laurent\, Montréal\, Québec\, Canada
CATEGORIES:Montreal Klezmer Jam
ATTACH;FMTTYPE=image/jpeg:https://klezkanada.org/wp-content/uploads/2026/03/2026-MKJ-Graphics-Event-Banner.jpg
ORGANIZER;CN="KlezKanada":MAILTO:info@klezkanada.org
END:VEVENT
BEGIN:VEVENT
DTSTART;TZID=America/New_York:20261220T180000
DTEND;TZID=America/New_York:20261220T210000
DTSTAMP:20260424T022739
CREATED:20260305T165104Z
LAST-MODIFIED:20260305T165104Z
UID:14521-1797789600-1797800400@klezkanada.org
SUMMARY:Montréal Klezmer Jam
DESCRIPTION:Every third Sunday of the month\, join Montreal’s klezmer community to play klezmer tunes together. KlezKanada’s Montreal Klezmer Jam is a space where Montreal musicians – and guests from out of town – come together regularly to play klezmer music\, discover new repertoire\, and build community.  \nEach session opens with a mini concert set at 6 PM\, featuring performances from local and touring klezmorim. After the short concert set\, the artists will open up the set to jamming. There will be a short break at 7:15 ish\, followed by a second jam set. \nSee more information about the Montreal Klezmer Jam series\, including upcoming artists\, tune-of-the-month\, and jamming guidelines at https://klezkanada.org/montreal-klezmer-jam/ \n— \nChaque troisième dimanche du mois\, joignez-vous à la communauté klezmer de Montréal pour jouer ensemble des tunes klezmer. Le Jam Klezmer de Montréal de KlezKanada est un lieu de rencontre régulier pour les musiciens montréalais – et des invités de passage – qui se réunissent pour jouer de la musique klezmer\, découvrir de nouveaux morceaux et tisser des liens. \nChaque séance débute par un mini-concert à 18 h\, avec des performances de musiciens klezmer locaux et en tournée. Après ce court concert\, place au jam. Une courte pause est prévue vers 19:15 h\, suivie d’une deuxième séance de jamming. \nPour en savoir plus sur la série de Jam klezmer de Montréal\, notamment sur les artistes à venir\, la chanson du mois et les règles de participation\, rendez-vous sur : https://klezkanada.org/fr/jam-klezmer-montreal/
URL:https://klezkanada.org/event/montreal-klezmer-jam-2026-12/
LOCATION:Aux Angles Ronds\, 5333 Boulevard Saint-Laurent\, Montréal\, Québec\, Canada
CATEGORIES:Montreal Klezmer Jam
ATTACH;FMTTYPE=image/jpeg:https://klezkanada.org/wp-content/uploads/2026/03/2026-MKJ-Graphics-Event-Banner.jpg
ORGANIZER;CN="KlezKanada":MAILTO:info@klezkanada.org
END:VEVENT
END:VCALENDAR